BEGIN:VCALENDAR
VERSION:2.0
PRODID:dceg.cancer.gov
BEGIN:VEVENT
UID:69ea251a1a495
DTSTART:20230427T143000Z
SEQUENCE:0
TRANSP:OPAQUE
DTEND:20230427T153000Z
SUMMARY:Alison Motsinger-Reif - Variance Locus Analysis for Prioritizing Ge
 ne-Environment Interactions in the Personalized Environment and Genes Stud
 y
CLASS:PUBLIC
DESCRIPTION:Dr. Alison Motsinger-Reif will present a seminar on Variance Lo
 cus Analysis for Prioritizing GxE Interactions in PEGS
DTSTAMP:20260423T135642Z
END:VEVENT
END:VCALENDAR