BEGIN:VCALENDAR
VERSION:2.0
PRODID:dceg.cancer.gov
BEGIN:VEVENT
UID:69e73b2d7a596
DTSTART:20230629T143000Z
SEQUENCE:0
TRANSP:OPAQUE
DTEND:20230629T153000Z
SUMMARY:Ben Blount\, CDC - Biomonitoring as a Tool for Improving Exposure A
 ssessment
CLASS:PUBLIC
DESCRIPTION:Ben Blount\, Ph.D.\, Chief\, Tobacco and Volatiles Branch\, Div
 ision of Laboratory Sciences\, National Center for Environmental Health\, 
 Centers for Disease Control and Prevention
DTSTAMP:20260421T085405Z
END:VEVENT
END:VCALENDAR