BEGIN:VCALENDAR
VERSION:2.0
PRODID:dceg.cancer.gov
BEGIN:VEVENT
UID:69e73752f2505
DTSTART:20231005T143000Z
SEQUENCE:0
TRANSP:OPAQUE
DTEND:20231005T153000Z
SUMMARY:Marc Tischkowitz - Polygenic risk scores in familial breast and ova
 rian cancer – ready for the clinic?
CLASS:PUBLIC
DESCRIPTION:Dr. Tischkowitz guest lecturer. Polygenic risk scores in famili
 al breast and ovarian cancer – ready for the clinic?
DTSTAMP:20260421T083738Z
END:VEVENT
END:VCALENDAR